BEGIN:VCALENDAR
PRODID:www.fdp-bayern.de
VERSION:2.0
CALSCALE:GREGORIAN
BEGIN:VEVENT
UID:a8ff9fac1fff4357d346fe83935821a9
DTSTAMP:20260421T162220Z
SUMMARY:Sitzung AG Wirtschaft des LFA Wirtschaft\, Energie und Tourismus
DTSTART:20260428T173000Z
DTEND:20260428T193000Z
LOCATION:
X-MICROSOFT-LOCATIONDISPLAYNAME:
END:VEVENT
END:VCALENDAR
