BEGIN:VCALENDAR
PRODID:www.fdp-bayern.de
VERSION:2.0
CALSCALE:GREGORIAN
BEGIN:VEVENT
UID:583b8c91b258a7d5ca5a89cb80511934
DTSTAMP:20260421T162221Z
SUMMARY:geplante Sitzung des LFA Wirtschaft\, Energie und Tourismus
DTSTART:20261008T173000Z
DTEND:20261008T190000Z
LOCATION:
X-MICROSOFT-LOCATIONDISPLAYNAME:
END:VEVENT
END:VCALENDAR
