BEGIN:VCALENDAR
PRODID:www.fdp-bayern.de
VERSION:2.0
CALSCALE:GREGORIAN
BEGIN:VEVENT
UID:663ca5a1f55a279c751d8352a912767e
DTSTAMP:20260421T162220Z
SUMMARY:geplante Sitzung des LFA Wirtschaft\, Energie und Tourismus 
DTSTART:20260625T173000Z
DTEND:20260625T190000Z
LOCATION:
X-MICROSOFT-LOCATIONDISPLAYNAME:
END:VEVENT
END:VCALENDAR
