BEGIN:VCALENDAR
PRODID:www.fdp-bayern.de
VERSION:2.0
CALSCALE:GREGORIAN
BEGIN:VEVENT
UID:0cba2283e84aa0acd7fb870f5bcbd774
DTSTAMP:20260421T162225Z
SUMMARY:Sitzung des LFA Außen und Sicherheit\, Bundes- und Europaangelegen
 heiten sowie regionale Beziehungen
DTSTART:20260423T170000Z
DTEND:20260423T200000Z
LOCATION:
X-MICROSOFT-LOCATIONDISPLAYNAME:
END:VEVENT
END:VCALENDAR
