BEGIN:VCALENDAR
PRODID:www.fdp-bayern.de
VERSION:2.0
CALSCALE:GREGORIAN
BEGIN:VEVENT
UID:d9ddc7df0cb54ad2358bc3c122289b70
DTSTAMP:20260421T173811Z
SUMMARY:90. Ordentlicher Landesparteitag der FDP Bayern
DTSTART:20261114T090000Z
DTEND:20261115T170000Z
LOCATION:Amberger Congress Centrum\, Schießstätteweg 8\, 92224 Amberg\, D
 eutschland
X-MICROSOFT-LOCATIONDISPLAYNAME:Amberger Congress Centrum\, Schießstättew
 eg 8\, 92224 Amberg\, Deutschland
X-MICROSOFT-LOCATIONSTREET:Schießstätteweg 8
X-MICROSOFT-LOCATIONPOSTALCODE:92224
X-MICROSOFT-LOCATIONCITY:Amberg
X-MICROSOFT-LOCATIONCOUNTRY:Deutschland
END:VEVENT
END:VCALENDAR
